BEGIN:VCALENDAR
VERSION:2.0
PRODID:-//wp-events-plugin.com//7.2.3.1//EN
BEGIN:VEVENT
UID:25@womenwritingfantasy.com
DTSTART;TZID=Europe/London:20260614T100000
DTEND;TZID=Europe/London:20260614T120000
DTSTAMP:20240811T174651Z
URL:https://womenwritingfantasy.com/events/advise-write-2026-06-14/
SUMMARY:Advise & Write
DESCRIPTION:Join us for our Advise &amp\; Write Session\, where writers of 
 all experience levels and stages of their writing journey come together to
  talk about the process of writing. Whether you're brainstorming new ideas
 \, unraveling tricky plot points\, or battling writer's block\, this is th
 e perfect space to work through your challenges and learn from the experie
 nces of other writers.\n\nIn this collaborative environment\, you'll have 
 the opportunity to:\n\n 	Brainstorm Ideas: Bring your plot dilemmas\, char
 acter conundrums\, or any other writing issues you might be facing\, and u
 se this time to get fresh perspectives.\n 	Discuss Craft: Dive into conver
 sations about writing habits\, techniques\, and the craft of storytelling.
 \n 	Work Through Blocks: Stuck on a scene or struggling to find your motiv
 ation? Let's talk through it together.\n 	Write: Assuming all issues have 
 been worked through\, we’ll wrap up by working on our individual project
 s.\n\nWhether you're a seasoned writer or just starting out\, Advise &amp\
 ; Write offers a friendly atmosphere to advance your writing journey. Brin
 g your questions\, your curiosity\, and your work-in-progress—and let's 
 work through things together!\n\nOur events take place on our Discord serv
 er. Register as a member to gain access to this event. Membership is free.
ATTACH;FMTTYPE=image/jpeg:https://womenwritingfantasy.com/wp-content/uploa
 ds/2024/08/pexels-anete-lusina-7256685-scaled.jpg
CATEGORIES:Advice Session
END:VEVENT
BEGIN:VTIMEZONE
TZID:Europe/London
X-LIC-LOCATION:Europe/London
BEGIN:DAYLIGHT
DTSTART:20260329T020000
TZOFFSETFROM:+0000
TZOFFSETTO:+0100
TZNAME:BST
END:DAYLIGHT
END:VTIMEZONE
END:VCALENDAR