BEGIN:VCALENDAR
VERSION:2.0
PRODID:-//wp-events-plugin.com//7.2.3.1//EN
BEGIN:VEVENT
UID:404@womenwritingfantasy.com
DTSTART;TZID=Europe/London:20261118T200000
DTEND;TZID=Europe/London:20261118T220000
DTSTAMP:20240811T180012Z
URL:https://womenwritingfantasy.com/events/evening-writing-session-2026-11
 -18/
SUMMARY:Evening Writing Session
DESCRIPTION:Finding time to write during the week can be difficult\, but ou
 r Evening Writing Session is designed to help you stay on track. This ses
 sion is all about setting aside a regular\, dedicated time to focus on you
 r writing\, even when life gets busy. Join us midweek to maintain momentum
  and keep your projects moving forward.\n\nSession Breakdown:\n\n 	8:00 PM
  - 8:15 PM: We begin with a relaxed 15-minute check-in\, allowing members 
 to connect\, share their goals for the evening\, and settle in. This time 
 is perfect for setting your intentions before diving into your writing.\n 
 	8:15 PM - 9:45 PM: The next 90 minutes are dedicated to focused\, uninter
 rupted writing. Whether you're working on a new draft\, editing\, or simpl
 y brainstorming ideas\, this is your time to make meaningful progress. Ple
 ase mute yourself to maintain a quiet environment\, and feel free to keep 
 your camera on if it helps you stay accountable.\n 	9:45 PM - 10:00 PM: We
  end the session with a brief discussion where members can share their pro
 gress\, discuss any challenges\, or simply reflect on their writing experi
 ence.\n\nLocation:\n\n 	Online: This session takes place on our Discord se
 rver\, exclusively available to members.\n\nMembership: Participation in o
 ur Wednesday Evening Writing Session is open to all members. Membership is
  free and provides access to our supportive writing community and resource
 s.\n\nMake writing a regular part of your week by joining our Writing Sess
 ions. What better way to unwind after work than to focus on your writing?
ATTACH;FMTTYPE=image/jpeg:https://womenwritingfantasy.com/wp-content/uploa
 ds/2024/08/pexels-cottonbro-4865540-scaled-e1723398820914.jpg
CATEGORIES:Writing Session
END:VEVENT
BEGIN:VTIMEZONE
TZID:Europe/London
X-LIC-LOCATION:Europe/London
BEGIN:STANDARD
DTSTART:20261025T010000
TZOFFSETFROM:+0100
TZOFFSETTO:+0000
TZNAME:GMT
END:STANDARD
END:VTIMEZONE
END:VCALENDAR