BEGIN:VCALENDAR
VERSION:2.0
PRODID:-//wp-events-plugin.com//7.2.3.1//EN
BEGIN:VEVENT
UID:54@womenwritingfantasy.com
DTSTART;TZID=Europe/London:20260524T100000
DTEND;TZID=Europe/London:20260524T120000
DTSTAMP:20240811T175210Z
URL:https://womenwritingfantasy.com/events/feedback-session-2026-05-24/
SUMMARY:Feedback Session
DESCRIPTION:The monthly feedback session gives our members the opportunity 
 to give constructive feedback to each other to improve our craft. Every fo
 urth Sunday of a month at 10am.
ATTACH;FMTTYPE=image/jpeg:https://womenwritingfantasy.com/wp-content/uploa
 ds/2024/08/pexels-ron-lach-8085267-scaled.jpg
CATEGORIES:Feedback Session
END:VEVENT
BEGIN:VTIMEZONE
TZID:Europe/London
X-LIC-LOCATION:Europe/London
BEGIN:DAYLIGHT
DTSTART:20260329T020000
TZOFFSETFROM:+0000
TZOFFSETTO:+0100
TZNAME:BST
END:DAYLIGHT
END:VTIMEZONE
END:VCALENDAR