BEGIN:VCALENDAR
VERSION:2.0
PRODID:-//wp-events-plugin.com//7.2.3.1//EN
BEGIN:VEVENT
UID:273@womenwritingfantasy.com
DTSTART;TZID=Europe/London:20260621T100000
DTEND;TZID=Europe/London:20260621T120000
DTSTAMP:20240811T175009Z
URL:https://womenwritingfantasy.com/events/morning-writing-session-2-2026-
 06-21/
SUMMARY:Morning Writing Session
DESCRIPTION:Start your Sunday with a serious dose of accountability at our 
 Morning Writing Session! This weekly gathering is the perfect opportunity 
 to dedicate focused time to your writing projects\, surrounded by a commun
 ity of fellow writers.\n\nSession Breakdown:\n\n 	10:00 AM - 10:15 AM: We 
 begin with a relaxed 15-minute window for members to join\, catch up\, and
  settle in. Grab a coffee\, say hello\, and get ready to write.\n 	10:15 A
 M - 11:45 AM: The next 90 minutes are all about you and your writing. Whet
 her you're drafting\, editing\, or brainstorming\, this is your time to fo
 cus. If we're online\, please mute yourself to maintain a quiet environmen
 t. Keeping your camera on is encouraged to help stay accountable\, but it'
 s not mandatory.\n 	11:45 AM - 12:00 PM: We wrap up the session with a bri
 ef discussion about our progress. Share any breakthroughs\, challenges\, o
 r thoughts from your writing time.\n\nLocation:\n\n 	Online Sessions: Most
  sessions take place on our Discord server\, exclusively available to memb
 ers.\n 	In-Person Sessions: Occasionally\, we meet in person at a central 
 London location. Stay tuned for announcements regarding in-person sessions
 .\n\nMembership: To join our writing sessions\, you'll need to become a me
 mber of our group—membership is free and unlocks access to our community
  events.\n\nWhether you’re looking for structured time to work on your w
 riting or simply want to connect with other writers\, our Morning Writing 
 Session is the perfect way to start your day productively!
ATTACH;FMTTYPE=image/jpeg:https://womenwritingfantasy.com/wp-content/uploa
 ds/2024/08/pexels-furkanfdemir-7080669-1-scaled-e1723327721139.jpg
CATEGORIES:Writing Session
END:VEVENT
BEGIN:VTIMEZONE
TZID:Europe/London
X-LIC-LOCATION:Europe/London
BEGIN:DAYLIGHT
DTSTART:20260329T020000
TZOFFSETFROM:+0000
TZOFFSETTO:+0100
TZNAME:BST
END:DAYLIGHT
END:VTIMEZONE
END:VCALENDAR